BEGIN:VCALENDAR
VERSION:2.0
PRODID:-//CILT - ECPv6.15.20//NONSGML v1.0//EN
CALSCALE:GREGORIAN
METHOD:PUBLISH
X-ORIGINAL-URL:https://cilt.ca
X-WR-CALDESC:Events for CILT
REFRESH-INTERVAL;VALUE=DURATION:PT1H
X-Robots-Tag:noindex
X-PUBLISHED-TTL:PT1H
BEGIN:VTIMEZONE
TZID:America/Toronto
BEGIN:DAYLIGHT
TZOFFSETFROM:-0500
TZOFFSETTO:-0400
TZNAME:EDT
DTSTART:20210314T070000
END:DAYLIGHT
BEGIN:STANDARD
TZOFFSETFROM:-0400
TZOFFSETTO:-0500
TZNAME:EST
DTSTART:20211107T060000
END:STANDARD
BEGIN:DAYLIGHT
TZOFFSETFROM:-0500
TZOFFSETTO:-0400
TZNAME:EDT
DTSTART:20220313T070000
END:DAYLIGHT
BEGIN:STANDARD
TZOFFSETFROM:-0400
TZOFFSETTO:-0500
TZNAME:EST
DTSTART:20221106T060000
END:STANDARD
BEGIN:DAYLIGHT
TZOFFSETFROM:-0500
TZOFFSETTO:-0400
TZNAME:EDT
DTSTART:20230312T070000
END:DAYLIGHT
BEGIN:STANDARD
TZOFFSETFROM:-0400
TZOFFSETTO:-0500
TZNAME:EST
DTSTART:20231105T060000
END:STANDARD
BEGIN:DAYLIGHT
TZOFFSETFROM:-0500
TZOFFSETTO:-0400
TZNAME:EDT
DTSTART:20240310T070000
END:DAYLIGHT
BEGIN:STANDARD
TZOFFSETFROM:-0400
TZOFFSETTO:-0500
TZNAME:EST
DTSTART:20241103T060000
END:STANDARD
BEGIN:DAYLIGHT
TZOFFSETFROM:-0500
TZOFFSETTO:-0400
TZNAME:EDT
DTSTART:20250309T070000
END:DAYLIGHT
BEGIN:STANDARD
TZOFFSETFROM:-0400
TZOFFSETTO:-0500
TZNAME:EST
DTSTART:20251102T060000
END:STANDARD
BEGIN:DAYLIGHT
TZOFFSETFROM:-0500
TZOFFSETTO:-0400
TZNAME:EDT
DTSTART:20260308T070000
END:DAYLIGHT
BEGIN:STANDARD
TZOFFSETFROM:-0400
TZOFFSETTO:-0500
TZNAME:EST
DTSTART:20261101T060000
END:STANDARD
BEGIN:DAYLIGHT
TZOFFSETFROM:-0500
TZOFFSETTO:-0400
TZNAME:EDT
DTSTART:20270314T070000
END:DAYLIGHT
BEGIN:STANDARD
TZOFFSETFROM:-0400
TZOFFSETTO:-0500
TZNAME:EST
DTSTART:20271107T060000
END:STANDARD
END:VTIMEZONE
BEGIN:VEVENT
DTSTART;TZID=America/Toronto:20260408T120000
DTEND;TZID=America/Toronto:20260408T130000
DTSTAMP:20260421T102405
CREATED:20260107T212219Z
LAST-MODIFIED:20260107T212219Z
UID:17551-1775649600-1775653200@cilt.ca
SUMMARY:PDN Vibrant Zoom: Peer Support Group for Parents with Disabilities
DESCRIPTION:PDN Vibrant Zoom: Peer Support Group for Parents with Disabilities \nJoin CILT’s Parenting with a Disability Network and Vibrant Community Health for a monthly virtual peer support group. This group is an opportunity to share parenting challenges and joys\, problem-solve and celebrate with others who can relate to your experience parenting with a disability. This a cross-disability group and is facilitated by staff with lived experience. \nTo register or for more info email rebecca.wood@cilt.ca  or phone: 416-599-2458 ext 291 TTY: Dial 711 for Bell Relay Service \nIn every session we have: \n\nA check in where people can share their name\, pronouns\, a joy and a challenge of parenting they have experienced since our last meeting\nA discussion topic\nA short self-care exercise\nResource sharing about any upcoming programs\, events\, media or information related to disability and parenting\nA check out\n\nPDN Vibrant Zoom operates within the Independent Living philosophy and is an opportunity to show up in a group where we as disabled parents are experts on our own lives and our own needs. We may all have different lived experience\, but this group is an opportunity to share and discuss what works for us and hear about what works for others so that we have a choice of strategies as we navigate the world and thrive. IL philosophy believes we have the right to take control of our own lives by exercising the right to examine options\, make choices\, take risks and even make mistakes. \nThis group is grounded in principles of Disability Justice\, including the principles of anti-oppression and of interdependence. We recognize that intersecting identities inform lived experience and welcome this experience in PDN Vibrant Zoom. \nGroup Agreements and discussion topics will be sent out when you register. You will receive a reminder email one week before the program and a zoom link the day before. Please be ready to participate in activity and discussion. \nLet us know about any access needs when you register. There is an option to join these sessions by phone. Automatic closed captioning will be provided. ASL-English interpretation is available if requested in advance. \nThis program is available for Ontario residents. To register you will be asked to provide your first and last name and what city you will be joining from. \nTo register or for more info email rebecca.wood@cilt.ca  or phone: 416-599-2458 ext 291 TTY: Dial 711 for Bell Relay Service \nTo find out about other programs and events at CILT please join our mailing list \nYou are also welcome to join our PDN Facebook group
URL:https://cilt.ca/event/pdn-vibrant-zoom-peer-support-group-for-parents-with-disabilities-6/
LOCATION:Virtual
CATEGORIES:CILT Events,PDN,Peer Support
END:VEVENT
BEGIN:VEVENT
DTSTART;TZID=America/Toronto:20260318T120000
DTEND;TZID=America/Toronto:20260318T130000
DTSTAMP:20260421T102405
CREATED:20260107T212024Z
LAST-MODIFIED:20260303T235857Z
UID:17544-1773835200-1773838800@cilt.ca
SUMMARY:PDN Vibrant Zoom: Peer Support Group for Parents with Disabilities
DESCRIPTION:PDN Vibrant Zoom: Peer Support Group for Parents with Disabilities \nJoin CILT’s Parenting with a Disability Network and Vibrant Community Health for a monthly virtual peer support group. This group is an opportunity to share parenting challenges and joys\, problem-solve and celebrate with others who can relate to your experience parenting with a disability. This a cross-disability group and is facilitated by staff with lived experience. \nTo register or for more info email rebecca.wood@cilt.ca  or phone: 416-599-2458 ext 291 TTY: Dial 711 for Bell Relay Service \nIn every session we have: \n\nA check in where people can share their name\, pronouns\, a joy and a challenge of parenting they have experienced since our last meeting\nA discussion topic\nA short self-care exercise\nResource sharing about any upcoming programs\, events\, media or information related to disability and parenting\nA check out\n\nPDN Vibrant Zoom operates within the Independent Living philosophy and is an opportunity to show up in a group where we as disabled parents are experts on our own lives and our own needs. We may all have different lived experience\, but this group is an opportunity to share and discuss what works for us and hear about what works for others so that we have a choice of strategies as we navigate the world and thrive. IL philosophy believes we have the right to take control of our own lives by exercising the right to examine options\, make choices\, take risks and even make mistakes. \nThis group is grounded in principles of Disability Justice\, including the principles of anti-oppression and of interdependence. We recognize that intersecting identities inform lived experience and welcome this experience in PDN Vibrant Zoom. \nGroup Agreements and discussion topics will be sent out when you register. You will receive a reminder email one week before the program and a zoom link the day before. Please be ready to participate in activity and discussion. \nLet us know about any access needs when you register. There is an option to join these sessions by phone. Automatic closed captioning will be provided. ASL-English interpretation is available if requested in advance. \nThis program is available for Ontario residents. To register you will be asked to provide your first and last name and what city you will be joining from. \nTo register or for more info email rebecca.wood@cilt.ca  or phone: 416-599-2458 ext 291 TTY: Dial 711 for Bell Relay Service \nTo find out about other programs and events at CILT please join our mailing list \nYou are also welcome to join our PDN Facebook group
URL:https://cilt.ca/event/pdn-vibrant-zoom-peer-support-group-for-parents-with-disabilities-5/
LOCATION:Virtual
CATEGORIES:CILT Events,PDN,Peer Support
END:VEVENT
BEGIN:VEVENT
DTSTART;TZID=America/Toronto:20260304T120000
DTEND;TZID=America/Toronto:20260304T133000
DTSTAMP:20260421T102405
CREATED:20260116T184206Z
LAST-MODIFIED:20260116T184206Z
UID:17562-1772625600-1772631000@cilt.ca
SUMMARY:Building Emotional Toolkits for Parents with Disabilities: Session 3
DESCRIPTION:Being a parent is no easy task and parenting with a disability adds its own layers of complexity to the mix. Add to your emotional toolbox with this psychoeducational and interactive virtual workshop series facilitated by Family Services Toronto\, Vibrant Community Healthcare and the Centre for Independent Living in Toronto’s Parenting with a Disability Network.   \nFacilitators will lead a cross-disability group of parent participants through activities and discussions designed to build a deeper understanding of key emotions and their functions and to support building our toolkits for tuning in and responding to our emotions as parents.   \nSpaces are limited so we ask that participants please commit to attending all three sessions. All participants will receive follow up resources to help build their toolkits.  \nWhen:  \n\nWednesday February 4\, 2026\, 12pm-1:30pm  \n\n\nWednesday February 18\, 2026\, 12pm-1:30pm  \n\n\nWednesday March 4\, 2026\, 12pm-1:30pm \n\nWhere: Over Zoom  \nThis is the third of a three part series. Participants are asked to attend all 3 session. \nIf you need support with filling out the registration form\, please contact Robin Simmons by e-mail robin.simmons@cilt.ca or call 416-599-2458 ext. 293.  \nAccess: ASL-English interpretation will be provided if need is confirmed by January 27th.  Zoom auto-captions will be turned on. There will be a 5-10 minute break scheduled into each session depending on sessions. Handouts will be provided in accessible formats with text descriptions of any images.  \nPlease let us know about any access supports we can provide when you register.   \nThis program is for parents with disabilities in Ontario. 
URL:https://cilt.ca/event/building-emotional-toolkits-for-parents-with-disabilities-session-3/
LOCATION:Virtual
CATEGORIES:CILT Events,Community Events,PDN
END:VEVENT
BEGIN:VEVENT
DTSTART;TZID=America/Toronto:20260218T120000
DTEND;TZID=America/Toronto:20260218T133000
DTSTAMP:20260421T102405
CREATED:20260116T183755Z
LAST-MODIFIED:20260116T184243Z
UID:17561-1771416000-1771421400@cilt.ca
SUMMARY:Building Emotional Toolkits for Parents with Disabilities: Session 2
DESCRIPTION:Being a parent is no easy task and parenting with a disability adds its own layers of complexity to the mix. Add to your emotional toolbox with this psychoeducational and interactive virtual workshop series facilitated by Family Services Toronto\, Vibrant Community Healthcare and the Centre for Independent Living in Toronto’s Parenting with a Disability Network.   \nFacilitators will lead a cross-disability group of parent participants through activities and discussions designed to build a deeper understanding of key emotions and their functions and to support building our toolkits for tuning in and responding to our emotions as parents.   \nSpaces are limited so we ask that participants please commit to attending all three sessions. All participants will receive follow up resources to help build their toolkits.  \nWhen:  \n\nWednesday February 4\, 2026\, 12pm-1:30pm  \n\n\nWednesday February 18\, 2026\, 12pm-1:30pm  \n\n\nWednesday March 4\, 2026\, 12pm-1:30pm \n\nWhere: Over Zoom  \nThis is the second of a three part series. Participants are asked to attend all 3 session. \nIf you need support with filling out the registration form\, please contact Robin Simmons by e-mail robin.simmons@cilt.ca or call 416-599-2458 ext. 293.  \nAccess: ASL-English interpretation will be provided if need is confirmed by January 27th.  Zoom auto-captions will be turned on. There will be a 5-10 minute break scheduled into each session depending on sessions. Handouts will be provided in accessible formats with text descriptions of any images.  \nPlease let us know about any access supports we can provide when you register.   \nThis program is for parents with disabilities in Ontario. 
URL:https://cilt.ca/event/building-emotional-toolkits-for-parents-with-disabilities-session-2/
LOCATION:Virtual
CATEGORIES:CILT Events,Community Events,PDN
END:VEVENT
BEGIN:VEVENT
DTSTART;TZID=America/Toronto:20260204T120000
DTEND;TZID=America/Toronto:20260204T133000
DTSTAMP:20260421T102405
CREATED:20260107T221911Z
LAST-MODIFIED:20260107T221911Z
UID:17555-1770206400-1770211800@cilt.ca
SUMMARY:Building Emotional Toolkits for Parents with Disabilities: A 3 Part Workshop Series
DESCRIPTION:Being a parent is no easy task and parenting with a disability adds its own layers of complexity to the mix. Add to your emotional toolbox with this psychoeducational and interactive virtual workshop series facilitated by Family Services Toronto\, Vibrant Community Healthcare and the Centre for Independent Living in Toronto’s Parenting with a Disability Network.   \nFacilitators will lead a cross-disability group of parent participants through activities and discussions designed to build a deeper understanding of key emotions and their functions and to support building our toolkits for tuning in and responding to our emotions as parents.   \nSpaces are limited so we ask that participants please commit to attending all three sessions. All participants will receive follow up resources to help build their toolkits.  \nWhen:  \n\nWednesday February 4\, 2026\, 12pm-1:30pm  \n\n\nWednesday February 18\, 2026\, 12pm-1:30pm  \n\n\nWednesday March 4\, 2026\, 12pm-1:30pm \n\nWhere: Over Zoom  \nPlease register on Zoom by January 27\, 2026 at 5pm. \nIf you need support with filling out the registration form\, please contact Robin Simmons by e-mail robin.simmons@cilt.ca or call 416-599-2458 ext. 293.  \nAccess: ASL-English interpretation will be provided if need is confirmed by January 27th.  Zoom auto-captions will be turned on. There will be a 5-10 minute break scheduled into each session depending on sessions. Handouts will be provided in accessible formats with text descriptions of any images.  \nPlease let us know about any access supports we can provide when you register.   \nThis program is for parents with disabilities in Ontario. 
URL:https://cilt.ca/event/building-emotional-toolkits-for-parents-with-disabilities-a-3-part-workshop-series/
LOCATION:Virtual
CATEGORIES:CILT Events,Community Events,PDN
END:VEVENT
BEGIN:VEVENT
DTSTART;TZID=America/Toronto:20221122T190000
DTEND;TZID=America/Toronto:20221122T203000
DTSTAMP:20260421T102405
CREATED:20221028T185131Z
LAST-MODIFIED:20221028T185131Z
UID:12105-1669143600-1669149000@cilt.ca
SUMMARY:Sexuality\, Relationships & Parenting with a Disability
DESCRIPTION:Do you have questions about sex\, sexuality\, relationships and/or parenting with a disability? \nCome learn from community allies about disability-specific resources! This is a pop-up transition to adulthood event for youth 14+ and their families. \nHear from:\n– Connect Ability\n– Centre for Independent Living in Toronto (CILT)\n– Extend-A-Family\n– Holland Bloorview staff \nDate: Tuesday\, November 22nd\, 2022 \nTime: 7:00pm – 8:30pm \nLocation: Virtually through Zoom \nRegister: Scan the below QR code with your camera OR through Eventbrite. \n \nEvent Flyer.
URL:https://cilt.ca/event/sexuality-relationships-parenting-with-a-disability/
CATEGORIES:CILT Events,Community Events,PDN
END:VEVENT
BEGIN:VEVENT
DTSTART;TZID=America/Toronto:20221115T120000
DTEND;TZID=America/Toronto:20221115T130000
DTSTAMP:20260421T102405
CREATED:20220915T185400Z
LAST-MODIFIED:20220915T185400Z
UID:12006-1668513600-1668517200@cilt.ca
SUMMARY:PDN Vibrant Zoom: Peer Support for Parents with Disabilities
DESCRIPTION:PDN Vibrant Zoom\nPeer Support for Parents with Disabilities\n \n  \nWhen: 3rd Tuesday of each Month\, 12pm-1pm \nWhere: Over Zoom \nTo register: email rebecca.wood@cilt.ca or call 416-599-2458 ext. 291 \nPlease let us know about any accommodation or Zoom support needs when you register.  Automatic closed captions will be turned on. Participants can join by phone if necessary. \nPresented by: Vibrant Healthcare Alliance and the Centre for Independent Living in Toronto’s Parenting with a Disability Network with generous funding from the United Way Greater Toronto and the City of Toronto\, Ontario’s Community Health Centres and Independent Living Canada.
URL:https://cilt.ca/event/pdn-vibrant-zoom-peer-support-for-parents-with-disabilities-3/
LOCATION:Virtual
CATEGORIES:CILT Events,PDN
END:VEVENT
BEGIN:VEVENT
DTSTART;TZID=America/Toronto:20221108T190000
DTEND;TZID=America/Toronto:20221108T203000
DTSTAMP:20260421T102405
CREATED:20221013T131551Z
LAST-MODIFIED:20221013T131704Z
UID:12062-1667934000-1667939400@cilt.ca
SUMMARY:Episodic Disabilities and Parenting –Panel and Community Discussion
DESCRIPTION:Presented by the Centre for Independent Living in Toronto’s \nParenting with a Disability Network and Realize: \nEpisodic Disabilities and Parenting –Panel and Community Discussion \nNovember 8th\, 2022 \n7pm-8:30pm \nVirtually over zoom \nJoin us to hear a panel of parents with episodic disabilities share lived experience\, strategies\, and supports that they use when it comes to parenting. \nWe welcome parents and prospective parents with episodic disabilities to attend this event as well as service providers\, health care professionals\, employers\, and other community members. The goal is to open a positive dialogue around the unique needs of parents with episodic disabilities. \nPlease register here by Nov 5 at 5pm: https://us02web.zoom.us/meeting/register/tZEscuCrpz0rGdNWk5lV3dGlg36QtuxBEP-x \nIf you have questions or need support with registration\, please email: rebecca.wood@cilt.ca \nASL-English interpretation will be provided if need is confirmed by registration deadline. Auto-captions will be turned on. Due to the personal nature of parents sharing their lived experience this event will not be recorded.
URL:https://cilt.ca/event/12062/
LOCATION:Virtual
CATEGORIES:CILT Events,PDN
END:VEVENT
BEGIN:VEVENT
DTSTART;TZID=America/Toronto:20221018T120000
DTEND;TZID=America/Toronto:20221018T130000
DTSTAMP:20260421T102405
CREATED:20220915T175354Z
LAST-MODIFIED:20220915T175354Z
UID:11992-1666094400-1666098000@cilt.ca
SUMMARY:PDN Vibrant Zoom: Peer Support for Parents with Disabilities
DESCRIPTION:PDN Vibrant Zoom\nPeer Support for Parents with Disabilities\n \n  \nWhen: 3rd Tuesday of each Month\, 12pm-1pm \nWhere: Over Zoom \nTo register: email rebecca.wood@cilt.ca or call 416-599-2458 ext. 291 \nPlease let us know about any accommodation or Zoom support needs when you register.  Automatic closed captions will be turned on. Participants can join by phone if necessary. \nPresented by: Vibrant Healthcare Alliance and the Centre for Independent Living in Toronto’s Parenting with a Disability Network with generous funding from the United Way Greater Toronto and the City of Toronto\, Ontario’s Community Health Centres and Independent Living Canada. \n 
URL:https://cilt.ca/event/pdn-vibrant-zoom-peer-support-for-parents-with-disabilities-2/
LOCATION:Virtual
CATEGORIES:CILT Events,PDN
END:VEVENT
BEGIN:VEVENT
DTSTART;TZID=America/Toronto:20220920T120000
DTEND;TZID=America/Toronto:20220920T130000
DTSTAMP:20260421T102405
CREATED:20220915T173022Z
LAST-MODIFIED:20220915T173546Z
UID:11982-1663675200-1663678800@cilt.ca
SUMMARY:PDN Vibrant Zoom: Peer Support for Parents with Disabilities
DESCRIPTION:PDN Vibrant Zoom\nPeer Support for Parents with Disabilities\n  \n \nWhen: 3rd Tuesday of each Month\, 12pm-1pm \nWhere: Over Zoom \nTo register: email rebecca.wood@cilt.ca or call 416-599-2458 ext. 291 \nPlease let us know about any accommodation or Zoom support needs when you register.  Automatic closed captions will be turned on. Participants can join by phone if necessary. \nPresented by: Vibrant Healthcare Alliance and the Centre for Independent Living in Toronto’s Parenting with a Disability Network with generous funding from the United Way Greater Toronto and the City of Toronto\, Ontario’s Community Health Centres and Independent Living Canada. \n 
URL:https://cilt.ca/event/pdn-vibrant-zoom-peer-support-for-parents-with-disabilities/
LOCATION:Virtual
CATEGORIES:CILT Events,PDN
END:VEVENT
BEGIN:VEVENT
DTSTART;TZID=America/Toronto:20220315T113000
DTEND;TZID=America/Toronto:20220315T123000
DTSTAMP:20260421T102405
CREATED:20220301T140016Z
LAST-MODIFIED:20220323T123918Z
UID:10126-1647343800-1647347400@cilt.ca
SUMMARY:PDN Vibrant Songs and Discussion for Parents with Disabilities
DESCRIPTION:PDN Vibrant Songs and Discussion for Parents with Disabilities \nWhen: \nTuesday January 18\, 2022 at 11:30am \nTuesday February 15\, 2022 at 11:30am \nTuesday March 15\, 2022 at 11:30am \nWhere: over Zoom \nTo register: email rebecca.wood@cilt.ca or Call 416-599-2458 ext 291 \nJoin us for songs and stories (for children newborn to 5 years old) followed by time for discussion and connection with other parents with disabilities. This is a chance to learn new songs\, promote bonding with your child and connect with a cross-disability group of parents. \nIf you would like to join for just the discussion/peer support portion of this program only\, please feel free to join in at 12pm. \nPlease let us know about any accommodation or zoom support needs when you register for the event. Automatic closed captions will be turned on. Participants can join by phone if necessary. \nPresented by: Vibrant Healthcare Alliance and the Centre for Independent Living in Toronto’s Parenting with a Disability Network with generous funding from the United Way Greater Toronto and the City of Toronto\, Ontario’s Community Health Centres and Independent Living Canada.
URL:https://cilt.ca/event/pdn-vibrant-songs-and-discussion-for-parents-with-disabilities-3/
CATEGORIES:CILT Events,PDN
END:VEVENT
BEGIN:VEVENT
DTSTART;TZID=America/Toronto:20220215T113000
DTEND;TZID=America/Toronto:20220215T123000
DTSTAMP:20260421T102405
CREATED:20220201T140050Z
LAST-MODIFIED:20211223T151826Z
UID:10124-1644924600-1644928200@cilt.ca
SUMMARY:PDN Vibrant Songs and Discussion for Parents with Disabilities
DESCRIPTION:PDN Vibrant Songs and Discussion for Parents with Disabilities \nWhen: \nTuesday January 18\, 2022 at 11:30am \nTuesday February 15\, 2022 at 11:30am \nTuesday March 15\, 2022 at 11:30am \nWhere: over Zoom \nTo register: email rebecca.wood@cilt.ca or Call 416-599-2458 ext 291 \nJoin us for songs and stories (for children newborn to 5 years old) followed by time for discussion and connection with other parents with disabilities. This is a chance to learn new songs\, promote bonding with your child and connect with a cross-disability group of parents. \nIf you would like to join for just the discussion/peer support portion of this program only\, please feel free to join in at 12pm. \nPlease let us know about any accommodation or zoom support needs when you register for the event. Automatic closed captions will be turned on. Participants can join by phone if necessary. \nPresented by: Vibrant Healthcare Alliance and the Centre for Independent Living in Toronto’s Parenting with a Disability Network with generous funding from the United Way Greater Toronto and the City of Toronto\, Ontario’s Community Health Centres and Independent Living Canada.
URL:https://cilt.ca/event/pdn-vibrant-songs-and-discussion-for-parents-with-disabilities-2/
CATEGORIES:CILT Events,PDN
END:VEVENT
BEGIN:VEVENT
DTSTART;TZID=America/Toronto:20220118T113000
DTEND;TZID=America/Toronto:20220118T123000
DTSTAMP:20260421T102405
CREATED:20211222T204636Z
LAST-MODIFIED:20211223T151851Z
UID:10119-1642505400-1642509000@cilt.ca
SUMMARY:PDN Vibrant Songs and Discussion for Parents with Disabilities
DESCRIPTION:PDN Vibrant Songs and Discussion for Parents with Disabilities \nWhen: \nTuesday January 18\, 2022 at 11:30am \nTuesday February 15\, 2022 at 11:30am \nTuesday March 15\, 2022 at 11:30am \nWhere: over Zoom \nTo register: email rebecca.wood@cilt.ca or Call 416-599-2458 ext 291 \nJoin us for songs and stories (for children newborn to 5 years old) followed by time for discussion and connection with other parents with disabilities. This is a chance to learn new songs\, promote bonding with your child and connect with a cross-disability group of parents. \nIf you would like to join for just the discussion/peer support portion of this program only\, please feel free to join in at 12pm. \nPlease let us know about any accommodation or zoom support needs when you register for the event. Automatic closed captions will be turned on. Participants can join by phone if necessary. \nPresented by: Vibrant Healthcare Alliance and the Centre for Independent Living in Toronto’s Parenting with a Disability Network with generous funding from the United Way Greater Toronto and the City of Toronto\, Ontario’s Community Health Centres and Independent Living Canada.
URL:https://cilt.ca/event/pdn-vibrant-songs-and-discussion-for-parents-with-disabilities/
CATEGORIES:CILT Events,PDN
END:VEVENT
END:VCALENDAR