BEGIN:VCALENDAR
VERSION:2.0
PRODID:-//CILT - ECPv6.15.20//NONSGML v1.0//EN
CALSCALE:GREGORIAN
METHOD:PUBLISH
X-WR-CALNAME:CILT
X-ORIGINAL-URL:https://cilt.ca
X-WR-CALDESC:Events for CILT
REFRESH-INTERVAL;VALUE=DURATION:PT1H
X-Robots-Tag:noindex
X-PUBLISHED-TTL:PT1H
BEGIN:VTIMEZONE
TZID:America/Toronto
BEGIN:DAYLIGHT
TZOFFSETFROM:-0500
TZOFFSETTO:-0400
TZNAME:EDT
DTSTART:20250309T070000
END:DAYLIGHT
BEGIN:STANDARD
TZOFFSETFROM:-0400
TZOFFSETTO:-0500
TZNAME:EST
DTSTART:20251102T060000
END:STANDARD
BEGIN:DAYLIGHT
TZOFFSETFROM:-0500
TZOFFSETTO:-0400
TZNAME:EDT
DTSTART:20260308T070000
END:DAYLIGHT
BEGIN:STANDARD
TZOFFSETFROM:-0400
TZOFFSETTO:-0500
TZNAME:EST
DTSTART:20261101T060000
END:STANDARD
BEGIN:DAYLIGHT
TZOFFSETFROM:-0500
TZOFFSETTO:-0400
TZNAME:EDT
DTSTART:20270314T070000
END:DAYLIGHT
BEGIN:STANDARD
TZOFFSETFROM:-0400
TZOFFSETTO:-0500
TZNAME:EST
DTSTART:20271107T060000
END:STANDARD
END:VTIMEZONE
BEGIN:VEVENT
DTSTART;TZID=America/Toronto:20260513T120000
DTEND;TZID=America/Toronto:20260513T130000
DTSTAMP:20260421T090421
CREATED:20260107T212310Z
LAST-MODIFIED:20260107T212310Z
UID:17550-1778673600-1778677200@cilt.ca
SUMMARY:PDN Vibrant Zoom: Peer Support Group for Parents with Disabilities
DESCRIPTION:PDN Vibrant Zoom: Peer Support Group for Parents with Disabilities \nJoin CILT’s Parenting with a Disability Network and Vibrant Community Health for a monthly virtual peer support group. This group is an opportunity to share parenting challenges and joys\, problem-solve and celebrate with others who can relate to your experience parenting with a disability. This a cross-disability group and is facilitated by staff with lived experience. \nTo register or for more info email rebecca.wood@cilt.ca  or phone: 416-599-2458 ext 291 TTY: Dial 711 for Bell Relay Service \nIn every session we have: \n\nA check in where people can share their name\, pronouns\, a joy and a challenge of parenting they have experienced since our last meeting\nA discussion topic\nA short self-care exercise\nResource sharing about any upcoming programs\, events\, media or information related to disability and parenting\nA check out\n\nPDN Vibrant Zoom operates within the Independent Living philosophy and is an opportunity to show up in a group where we as disabled parents are experts on our own lives and our own needs. We may all have different lived experience\, but this group is an opportunity to share and discuss what works for us and hear about what works for others so that we have a choice of strategies as we navigate the world and thrive. IL philosophy believes we have the right to take control of our own lives by exercising the right to examine options\, make choices\, take risks and even make mistakes. \nThis group is grounded in principles of Disability Justice\, including the principles of anti-oppression and of interdependence. We recognize that intersecting identities inform lived experience and welcome this experience in PDN Vibrant Zoom. \nGroup Agreements and discussion topics will be sent out when you register. You will receive a reminder email one week before the program and a zoom link the day before. Please be ready to participate in activity and discussion. \nLet us know about any access needs when you register. There is an option to join these sessions by phone. Automatic closed captioning will be provided. ASL-English interpretation is available if requested in advance. \nThis program is available for Ontario residents. To register you will be asked to provide your first and last name and what city you will be joining from. \nTo register or for more info email rebecca.wood@cilt.ca  or phone: 416-599-2458 ext 291 TTY: Dial 711 for Bell Relay Service \nTo find out about other programs and events at CILT please join our mailing list \nYou are also welcome to join our PDN Facebook group
URL:https://cilt.ca/event/pdn-vibrant-zoom-peer-support-group-for-parents-with-disabilities-7/
LOCATION:Virtual
CATEGORIES:CILT Events,PDN,Peer Support
END:VEVENT
BEGIN:VEVENT
DTSTART;TZID=America/Toronto:20260610T120000
DTEND;TZID=America/Toronto:20260610T130000
DTSTAMP:20260421T090421
CREATED:20260107T212348Z
LAST-MODIFIED:20260107T212348Z
UID:17549-1781092800-1781096400@cilt.ca
SUMMARY:PDN Vibrant Zoom: Peer Support Group for Parents with Disabilities
DESCRIPTION:PDN Vibrant Zoom: Peer Support Group for Parents with Disabilities \nJoin CILT’s Parenting with a Disability Network and Vibrant Community Health for a monthly virtual peer support group. This group is an opportunity to share parenting challenges and joys\, problem-solve and celebrate with others who can relate to your experience parenting with a disability. This a cross-disability group and is facilitated by staff with lived experience. \nTo register or for more info email rebecca.wood@cilt.ca  or phone: 416-599-2458 ext 291 TTY: Dial 711 for Bell Relay Service \nIn every session we have: \n\nA check in where people can share their name\, pronouns\, a joy and a challenge of parenting they have experienced since our last meeting\nA discussion topic\nA short self-care exercise\nResource sharing about any upcoming programs\, events\, media or information related to disability and parenting\nA check out\n\nPDN Vibrant Zoom operates within the Independent Living philosophy and is an opportunity to show up in a group where we as disabled parents are experts on our own lives and our own needs. We may all have different lived experience\, but this group is an opportunity to share and discuss what works for us and hear about what works for others so that we have a choice of strategies as we navigate the world and thrive. IL philosophy believes we have the right to take control of our own lives by exercising the right to examine options\, make choices\, take risks and even make mistakes. \nThis group is grounded in principles of Disability Justice\, including the principles of anti-oppression and of interdependence. We recognize that intersecting identities inform lived experience and welcome this experience in PDN Vibrant Zoom. \nGroup Agreements and discussion topics will be sent out when you register. You will receive a reminder email one week before the program and a zoom link the day before. Please be ready to participate in activity and discussion. \nLet us know about any access needs when you register. There is an option to join these sessions by phone. Automatic closed captioning will be provided. ASL-English interpretation is available if requested in advance. \nThis program is available for Ontario residents. To register you will be asked to provide your first and last name and what city you will be joining from. \nTo register or for more info email rebecca.wood@cilt.ca  or phone: 416-599-2458 ext 291 TTY: Dial 711 for Bell Relay Service \nTo find out about other programs and events at CILT please join our mailing list \nYou are also welcome to join our PDN Facebook group
URL:https://cilt.ca/event/pdn-vibrant-zoom-peer-support-group-for-parents-with-disabilities-8/
LOCATION:Virtual
CATEGORIES:CILT Events,PDN,Peer Support
END:VEVENT
END:VCALENDAR